BEGIN:VCALENDAR
VERSION:2.0
PRODID:-//Lilienthal-Gymnasium Anklam - ECPv6.15.20//NONSGML v1.0//EN
CALSCALE:GREGORIAN
METHOD:PUBLISH
X-ORIGINAL-URL:https://lilienthal-gymnasium.de
X-WR-CALDESC:Veranstaltungen für Lilienthal-Gymnasium Anklam
REFRESH-INTERVAL;VALUE=DURATION:PT1H
X-Robots-Tag:noindex
X-PUBLISHED-TTL:PT1H
BEGIN:VTIMEZONE
TZID:Europe/Berlin
BEGIN:DAYLIGHT
TZOFFSETFROM:+0100
TZOFFSETTO:+0200
TZNAME:CEST
DTSTART:20190331T010000
END:DAYLIGHT
BEGIN:STANDARD
TZOFFSETFROM:+0200
TZOFFSETTO:+0100
TZNAME:CET
DTSTART:20191027T010000
END:STANDARD
BEGIN:DAYLIGHT
TZOFFSETFROM:+0100
TZOFFSETTO:+0200
TZNAME:CEST
DTSTART:20200329T010000
END:DAYLIGHT
BEGIN:STANDARD
TZOFFSETFROM:+0200
TZOFFSETTO:+0100
TZNAME:CET
DTSTART:20201025T010000
END:STANDARD
BEGIN:DAYLIGHT
TZOFFSETFROM:+0100
TZOFFSETTO:+0200
TZNAME:CEST
DTSTART:20210328T010000
END:DAYLIGHT
BEGIN:STANDARD
TZOFFSETFROM:+0200
TZOFFSETTO:+0100
TZNAME:CET
DTSTART:20211031T010000
END:STANDARD
BEGIN:DAYLIGHT
TZOFFSETFROM:+0100
TZOFFSETTO:+0200
TZNAME:CEST
DTSTART:20220327T010000
END:DAYLIGHT
BEGIN:STANDARD
TZOFFSETFROM:+0200
TZOFFSETTO:+0100
TZNAME:CET
DTSTART:20221030T010000
END:STANDARD
BEGIN:DAYLIGHT
TZOFFSETFROM:+0100
TZOFFSETTO:+0200
TZNAME:CEST
DTSTART:20230326T010000
END:DAYLIGHT
BEGIN:STANDARD
TZOFFSETFROM:+0200
TZOFFSETTO:+0100
TZNAME:CET
DTSTART:20231029T010000
END:STANDARD
END:VTIMEZONE
BEGIN:VEVENT
DTSTART;VALUE=DATE:20220704
DTEND;VALUE=DATE:20220814
DTSTAMP:20260421T221953
CREATED:20211214T124604Z
LAST-MODIFIED:20211214T124604Z
UID:17172-1656892800-1660435199@lilienthal-gymnasium.de
SUMMARY:Sommerferien 2022
DESCRIPTION:
URL:https://lilienthal-gymnasium.de/veranstaltung/sommerferien-2022/
CATEGORIES:Ferien
END:VEVENT
BEGIN:VEVENT
DTSTART;VALUE=DATE:20220603
DTEND;VALUE=DATE:20220608
DTSTAMP:20260421T221953
CREATED:20211214T124439Z
LAST-MODIFIED:20211214T124439Z
UID:17168-1654214400-1654646399@lilienthal-gymnasium.de
SUMMARY:Pfingstferien 2022
DESCRIPTION:
URL:https://lilienthal-gymnasium.de/veranstaltung/pfingstferien-2022/
CATEGORIES:Ferien
END:VEVENT
BEGIN:VEVENT
DTSTART;VALUE=DATE:20220527
DTEND;VALUE=DATE:20220528
DTSTAMP:20260421T221953
CREATED:20211214T124529Z
LAST-MODIFIED:20211214T124529Z
UID:17170-1653609600-1653695999@lilienthal-gymnasium.de
SUMMARY:Brückentag 2022
DESCRIPTION:
URL:https://lilienthal-gymnasium.de/veranstaltung/brueckentag-2022/
CATEGORIES:Ferien
END:VEVENT
BEGIN:VEVENT
DTSTART;VALUE=DATE:20220512
DTEND;VALUE=DATE:20220513
DTSTAMP:20260421T221953
CREATED:20211214T123910Z
LAST-MODIFIED:20211214T123910Z
UID:17159-1652313600-1652399999@lilienthal-gymnasium.de
SUMMARY:Abiturprüfung 2022 Physik
DESCRIPTION:Quelle: https://www.bildung-mv.de/export/sites/bildungsserver/downloads/pruefungen/Prufungstermine-2022.pdf
URL:https://lilienthal-gymnasium.de/veranstaltung/abiturpruefung-2022-physik/
LOCATION:Lilienthal-Gymnasium Anklam\, Leipziger Allee 22-25\, Anklam\, Mecklenburg-Vorpommern\, 17389\, Deutschland
CATEGORIES:Abitur 2022,Prüfungstermine
ORGANIZER;CN="Lilienthal-Gymnasium Anklam":MAILTO:lilienthal-gymnasium-anklam@t-online.de
END:VEVENT
BEGIN:VEVENT
DTSTART;VALUE=DATE:20220511
DTEND;VALUE=DATE:20220512
DTSTAMP:20260421T221953
CREATED:20211214T123815Z
LAST-MODIFIED:20211214T123815Z
UID:17157-1652227200-1652313599@lilienthal-gymnasium.de
SUMMARY:Abiturprüfung 2022 Chemie
DESCRIPTION:Quelle: https://www.bildung-mv.de/export/sites/bildungsserver/downloads/pruefungen/Prufungstermine-2022.pdf
URL:https://lilienthal-gymnasium.de/veranstaltung/abiturpruefung-2022-chemie/
LOCATION:Lilienthal-Gymnasium Anklam\, Leipziger Allee 22-25\, Anklam\, Mecklenburg-Vorpommern\, 17389\, Deutschland
CATEGORIES:Abitur 2022,Prüfungstermine
ORGANIZER;CN="Lilienthal-Gymnasium Anklam":MAILTO:lilienthal-gymnasium-anklam@t-online.de
END:VEVENT
BEGIN:VEVENT
DTSTART;VALUE=DATE:20220510
DTEND;VALUE=DATE:20220511
DTSTAMP:20260421T221953
CREATED:20211214T123735Z
LAST-MODIFIED:20211214T123735Z
UID:17155-1652140800-1652227199@lilienthal-gymnasium.de
SUMMARY:Abiturprüfung 2022 Informatik
DESCRIPTION:Quelle: https://www.bildung-mv.de/export/sites/bildungsserver/downloads/pruefungen/Prufungstermine-2022.pdf
URL:https://lilienthal-gymnasium.de/veranstaltung/abiturpruefung-2022-informatik/
LOCATION:Lilienthal-Gymnasium Anklam\, Leipziger Allee 22-25\, Anklam\, Mecklenburg-Vorpommern\, 17389\, Deutschland
CATEGORIES:Abitur 2022,Prüfungstermine
ORGANIZER;CN="Lilienthal-Gymnasium Anklam":MAILTO:lilienthal-gymnasium-anklam@t-online.de
END:VEVENT
BEGIN:VEVENT
DTSTART;VALUE=DATE:20220509
DTEND;VALUE=DATE:20220510
DTSTAMP:20260421T221953
CREATED:20211214T123645Z
LAST-MODIFIED:20211214T123645Z
UID:17153-1652054400-1652140799@lilienthal-gymnasium.de
SUMMARY:Abiturprüfung 2022 Geschichte und politische Bildung
DESCRIPTION:Quelle: https://www.bildung-mv.de/export/sites/bildungsserver/downloads/pruefungen/Prufungstermine-2022.pdf
URL:https://lilienthal-gymnasium.de/veranstaltung/abiturpruefung-2022-geschichte-und-politische-bildung/
LOCATION:Lilienthal-Gymnasium Anklam\, Leipziger Allee 22-25\, Anklam\, Mecklenburg-Vorpommern\, 17389\, Deutschland
CATEGORIES:Abitur 2022,Prüfungstermine
ORGANIZER;CN="Lilienthal-Gymnasium Anklam":MAILTO:lilienthal-gymnasium-anklam@t-online.de
END:VEVENT
BEGIN:VEVENT
DTSTART;VALUE=DATE:20220506
DTEND;VALUE=DATE:20220507
DTSTAMP:20260421T221953
CREATED:20211214T123557Z
LAST-MODIFIED:20211214T123557Z
UID:17151-1651795200-1651881599@lilienthal-gymnasium.de
SUMMARY:Abiturprüfung 2022 Biologie
DESCRIPTION:Quelle: https://www.bildung-mv.de/export/sites/bildungsserver/downloads/pruefungen/Prufungstermine-2022.pdf
URL:https://lilienthal-gymnasium.de/veranstaltung/abiturpruefung-2022-biologie/
LOCATION:Lilienthal-Gymnasium Anklam\, Leipziger Allee 22-25\, Anklam\, Mecklenburg-Vorpommern\, 17389\, Deutschland
CATEGORIES:Abitur 2022,Prüfungstermine
ORGANIZER;CN="Lilienthal-Gymnasium Anklam":MAILTO:lilienthal-gymnasium-anklam@t-online.de
END:VEVENT
BEGIN:VEVENT
DTSTART;VALUE=DATE:20220505
DTEND;VALUE=DATE:20220506
DTSTAMP:20260421T221953
CREATED:20211214T123511Z
LAST-MODIFIED:20211214T123511Z
UID:17149-1651708800-1651795199@lilienthal-gymnasium.de
SUMMARY:Abiturprüfung 2022 Sport
DESCRIPTION:Quelle: https://www.bildung-mv.de/export/sites/bildungsserver/downloads/pruefungen/Prufungstermine-2022.pdf
URL:https://lilienthal-gymnasium.de/veranstaltung/abiturpruefung-2022-sport/
LOCATION:Lilienthal-Gymnasium Anklam\, Leipziger Allee 22-25\, Anklam\, Mecklenburg-Vorpommern\, 17389\, Deutschland
CATEGORIES:Abitur 2022,Prüfungstermine
ORGANIZER;CN="Lilienthal-Gymnasium Anklam":MAILTO:lilienthal-gymnasium-anklam@t-online.de
END:VEVENT
BEGIN:VEVENT
DTSTART;VALUE=DATE:20220505
DTEND;VALUE=DATE:20220506
DTSTAMP:20260421T221953
CREATED:20211214T123430Z
LAST-MODIFIED:20211214T123430Z
UID:17147-1651708800-1651795199@lilienthal-gymnasium.de
SUMMARY:Abiturprüfung 2022 Musik
DESCRIPTION:Quelle: https://www.bildung-mv.de/export/sites/bildungsserver/downloads/pruefungen/Prufungstermine-2022.pdf
URL:https://lilienthal-gymnasium.de/veranstaltung/abiturpruefung-2022-musik/
LOCATION:Lilienthal-Gymnasium Anklam\, Leipziger Allee 22-25\, Anklam\, Mecklenburg-Vorpommern\, 17389\, Deutschland
CATEGORIES:Abitur 2022,Prüfungstermine
ORGANIZER;CN="Lilienthal-Gymnasium Anklam":MAILTO:lilienthal-gymnasium-anklam@t-online.de
END:VEVENT
BEGIN:VEVENT
DTSTART;VALUE=DATE:20220505
DTEND;VALUE=DATE:20220506
DTSTAMP:20260421T221953
CREATED:20211214T123343Z
LAST-MODIFIED:20211214T123343Z
UID:17145-1651708800-1651795199@lilienthal-gymnasium.de
SUMMARY:Abiturprüfung 2022 Französisch
DESCRIPTION:Quelle: https://www.bildung-mv.de/export/sites/bildungsserver/downloads/pruefungen/Prufungstermine-2022.pdf
URL:https://lilienthal-gymnasium.de/veranstaltung/abiturpruefung-2022-franzoesisch/
LOCATION:Lilienthal-Gymnasium Anklam\, Leipziger Allee 22-25\, Anklam\, Mecklenburg-Vorpommern\, 17389\, Deutschland
CATEGORIES:Abitur 2022,Prüfungstermine
ORGANIZER;CN="Lilienthal-Gymnasium Anklam":MAILTO:lilienthal-gymnasium-anklam@t-online.de
END:VEVENT
BEGIN:VEVENT
DTSTART;VALUE=DATE:20220504
DTEND;VALUE=DATE:20220505
DTSTAMP:20260421T221953
CREATED:20211214T123110Z
LAST-MODIFIED:20211214T123110Z
UID:17135-1651622400-1651708799@lilienthal-gymnasium.de
SUMMARY:Abiturprüfung 2022 Wirtschaft
DESCRIPTION:Quelle: https://www.bildung-mv.de/export/sites/bildungsserver/downloads/pruefungen/Prufungstermine-2022.pdf
URL:https://lilienthal-gymnasium.de/veranstaltung/abiturpruefung-2022-wirtschaft/
LOCATION:Lilienthal-Gymnasium Anklam\, Leipziger Allee 22-25\, Anklam\, Mecklenburg-Vorpommern\, 17389\, Deutschland
CATEGORIES:Abitur 2022,Prüfungstermine
ORGANIZER;CN="Lilienthal-Gymnasium Anklam":MAILTO:lilienthal-gymnasium-anklam@t-online.de
END:VEVENT
BEGIN:VEVENT
DTSTART;VALUE=DATE:20220504
DTEND;VALUE=DATE:20220505
DTSTAMP:20260421T221953
CREATED:20211214T123023Z
LAST-MODIFIED:20211214T123136Z
UID:17133-1651622400-1651708799@lilienthal-gymnasium.de
SUMMARY:Abiturprüfung 2022 Sozialkunde
DESCRIPTION:Quelle: https://www.bildung-mv.de/export/sites/bildungsserver/downloads/pruefungen/Prufungstermine-2022.pdf
URL:https://lilienthal-gymnasium.de/veranstaltung/abiturpruefung-2022-sozialkunde/
LOCATION:Lilienthal-Gymnasium Anklam\, Leipziger Allee 22-25\, Anklam\, Mecklenburg-Vorpommern\, 17389\, Deutschland
CATEGORIES:Abitur 2022,Prüfungstermine
ORGANIZER;CN="Lilienthal-Gymnasium Anklam":MAILTO:lilienthal-gymnasium-anklam@t-online.de
END:VEVENT
BEGIN:VEVENT
DTSTART;VALUE=DATE:20220504
DTEND;VALUE=DATE:20220505
DTSTAMP:20260421T221953
CREATED:20211214T122940Z
LAST-MODIFIED:20211214T123147Z
UID:17131-1651622400-1651708799@lilienthal-gymnasium.de
SUMMARY:Abiturprüfung 2022 Geografie
DESCRIPTION:Quelle: https://www.bildung-mv.de/export/sites/bildungsserver/downloads/pruefungen/Prufungstermine-2022.pdf
URL:https://lilienthal-gymnasium.de/veranstaltung/abiturpruefung-2022-geografie/
LOCATION:Lilienthal-Gymnasium Anklam\, Leipziger Allee 22-25\, Anklam\, Mecklenburg-Vorpommern\, 17389\, Deutschland
CATEGORIES:Abitur 2022,Prüfungstermine
ORGANIZER;CN="Lilienthal-Gymnasium Anklam":MAILTO:lilienthal-gymnasium-anklam@t-online.de
END:VEVENT
BEGIN:VEVENT
DTSTART;VALUE=DATE:20220504
DTEND;VALUE=DATE:20220505
DTSTAMP:20260421T221953
CREATED:20211214T122851Z
LAST-MODIFIED:20211214T123158Z
UID:17129-1651622400-1651708799@lilienthal-gymnasium.de
SUMMARY:Abiturprüfung 2022 evangelische und katholische Religion
DESCRIPTION:Quelle: https://www.bildung-mv.de/export/sites/bildungsserver/downloads/pruefungen/Prufungstermine-2022.pdf
URL:https://lilienthal-gymnasium.de/veranstaltung/abiturpruefung-2022-evangelische-und-katholische-religion/
LOCATION:Lilienthal-Gymnasium Anklam\, Leipziger Allee 22-25\, Anklam\, Mecklenburg-Vorpommern\, 17389\, Deutschland
CATEGORIES:Abitur 2022,Prüfungstermine
ORGANIZER;CN="Lilienthal-Gymnasium Anklam":MAILTO:lilienthal-gymnasium-anklam@t-online.de
END:VEVENT
BEGIN:VEVENT
DTSTART;VALUE=DATE:20220504
DTEND;VALUE=DATE:20220505
DTSTAMP:20260421T221953
CREATED:20211214T122758Z
LAST-MODIFIED:20211214T123208Z
UID:17127-1651622400-1651708799@lilienthal-gymnasium.de
SUMMARY:Abiturprüfung 2022 Philosophie
DESCRIPTION:Quelle: https://www.bildung-mv.de/export/sites/bildungsserver/downloads/pruefungen/Prufungstermine-2022.pdf
URL:https://lilienthal-gymnasium.de/veranstaltung/abiturpruefung-2022-philosophie/
LOCATION:Lilienthal-Gymnasium Anklam\, Leipziger Allee 22-25\, Anklam\, Mecklenburg-Vorpommern\, 17389\, Deutschland
CATEGORIES:Abitur 2022,Prüfungstermine
ORGANIZER;CN="Lilienthal-Gymnasium Anklam":MAILTO:lilienthal-gymnasium-anklam@t-online.de
END:VEVENT
BEGIN:VEVENT
DTSTART;VALUE=DATE:20220504
DTEND;VALUE=DATE:20220505
DTSTAMP:20260421T221953
CREATED:20211214T122707Z
LAST-MODIFIED:20211214T123218Z
UID:17125-1651622400-1651708799@lilienthal-gymnasium.de
SUMMARY:Abiturprüfung 2022 Kunst und Gestaltung
DESCRIPTION:Quelle: https://www.bildung-mv.de/export/sites/bildungsserver/downloads/pruefungen/Prufungstermine-2022.pdf
URL:https://lilienthal-gymnasium.de/veranstaltung/abiturpruefung-2022-kunst-und-gestaltung/
LOCATION:Lilienthal-Gymnasium Anklam\, Leipziger Allee 22-25\, Anklam\, Mecklenburg-Vorpommern\, 17389\, Deutschland
CATEGORIES:Abitur 2022,Prüfungstermine
ORGANIZER;CN="Lilienthal-Gymnasium Anklam":MAILTO:lilienthal-gymnasium-anklam@t-online.de
END:VEVENT
BEGIN:VEVENT
DTSTART;VALUE=DATE:20220503
DTEND;VALUE=DATE:20220504
DTSTAMP:20260421T221953
CREATED:20211214T122247Z
LAST-MODIFIED:20211214T123228Z
UID:17121-1651536000-1651622399@lilienthal-gymnasium.de
SUMMARY:Abiturprüfung 2022 Mathematik
DESCRIPTION:Quelle: https://www.bildung-mv.de/export/sites/bildungsserver/downloads/pruefungen/Prufungstermine-2022.pdf
URL:https://lilienthal-gymnasium.de/veranstaltung/abiturpruefung-2022-mathematik/
LOCATION:Lilienthal-Gymnasium Anklam\, Leipziger Allee 22-25\, Anklam\, Mecklenburg-Vorpommern\, 17389\, Deutschland
CATEGORIES:Abitur 2022,Prüfungstermine
ORGANIZER;CN="Lilienthal-Gymnasium Anklam":MAILTO:lilienthal-gymnasium-anklam@t-online.de
END:VEVENT
BEGIN:VEVENT
DTSTART;VALUE=DATE:20220429
DTEND;VALUE=DATE:20220430
DTSTAMP:20260421T221953
CREATED:20211214T122133Z
LAST-MODIFIED:20211214T123239Z
UID:17119-1651190400-1651276799@lilienthal-gymnasium.de
SUMMARY:Abiturprüfung 2022 Englisch
DESCRIPTION:Quelle: https://www.bildung-mv.de/export/sites/bildungsserver/downloads/pruefungen/Prufungstermine-2022.pdf 
URL:https://lilienthal-gymnasium.de/veranstaltung/abiturpruefung-2022-englisch/
LOCATION:Lilienthal-Gymnasium Anklam\, Leipziger Allee 22-25\, Anklam\, Mecklenburg-Vorpommern\, 17389\, Deutschland
CATEGORIES:Abitur 2022,Prüfungstermine
ORGANIZER;CN="Lilienthal-Gymnasium Anklam":MAILTO:lilienthal-gymnasium-anklam@t-online.de
END:VEVENT
BEGIN:VEVENT
DTSTART;VALUE=DATE:20220427
DTEND;VALUE=DATE:20220428
DTSTAMP:20260421T221953
CREATED:20211214T121914Z
LAST-MODIFIED:20211214T123248Z
UID:17117-1651017600-1651103999@lilienthal-gymnasium.de
SUMMARY:Abiturprüfung 2022 Deutsch
DESCRIPTION:Quelle: https://www.bildung-mv.de/export/sites/bildungsserver/downloads/pruefungen/Prufungstermine-2022.pdf 
URL:https://lilienthal-gymnasium.de/veranstaltung/abiturpruefung-2022-deutsch/
LOCATION:Lilienthal-Gymnasium Anklam\, Leipziger Allee 22-25\, Anklam\, Mecklenburg-Vorpommern\, 17389\, Deutschland
CATEGORIES:Abitur 2022,Prüfungstermine
ORGANIZER;CN="Lilienthal-Gymnasium Anklam":MAILTO:lilienthal-gymnasium-anklam@t-online.de
END:VEVENT
BEGIN:VEVENT
DTSTART;VALUE=DATE:20220411
DTEND;VALUE=DATE:20220421
DTSTAMP:20260421T221953
CREATED:20211214T124334Z
LAST-MODIFIED:20211214T124334Z
UID:17166-1649635200-1650499199@lilienthal-gymnasium.de
SUMMARY:Osterferien 2022
DESCRIPTION:
URL:https://lilienthal-gymnasium.de/veranstaltung/osterferien-2022/
CATEGORIES:Ferien
END:VEVENT
BEGIN:VEVENT
DTSTART;VALUE=DATE:20220205
DTEND;VALUE=DATE:20220219
DTSTAMP:20260421T221953
CREATED:20211214T124307Z
LAST-MODIFIED:20211214T124307Z
UID:17164-1644019200-1645228799@lilienthal-gymnasium.de
SUMMARY:Winterferien 2022
DESCRIPTION:
URL:https://lilienthal-gymnasium.de/veranstaltung/winterferien-2022/
CATEGORIES:Ferien
END:VEVENT
BEGIN:VEVENT
DTSTART;VALUE=DATE:20211222
DTEND;VALUE=DATE:20220101
DTSTAMP:20260421T221953
CREATED:20211214T124228Z
LAST-MODIFIED:20211214T124228Z
UID:17162-1640131200-1640995199@lilienthal-gymnasium.de
SUMMARY:Weihnachtsferien 2021
DESCRIPTION:
URL:https://lilienthal-gymnasium.de/veranstaltung/weihnachtsferien-2021/
CATEGORIES:Ferien
END:VEVENT
BEGIN:VEVENT
DTSTART;VALUE=DATE:20211220
DTEND;VALUE=DATE:20211222
DTSTAMP:20260421T221953
CREATED:20211217T143027Z
LAST-MODIFIED:20211217T143027Z
UID:17209-1639958400-1640131199@lilienthal-gymnasium.de
SUMMARY:Homeschooling
DESCRIPTION:Quelle: Download \n12. Hinweis: Aufhebung der Präsenzpflicht am 20. und 21.12.2021\nSchreiben an die Schulleitungen aller allgemein bildenden und beruflichen Schulen vom 2. Dezember 2021
URL:https://lilienthal-gymnasium.de/veranstaltung/homeschooling/
END:VEVENT
BEGIN:VEVENT
DTSTART;VALUE=DATE:20200622
DTEND;VALUE=DATE:20200624
DTSTAMP:20260421T221953
CREATED:20190903T123925Z
LAST-MODIFIED:20190903T123925Z
UID:12756-1592784000-1592956799@lilienthal-gymnasium.de
SUMMARY:Sommerferien
DESCRIPTION:
URL:https://lilienthal-gymnasium.de/veranstaltung/sommerferien-3/
END:VEVENT
BEGIN:VEVENT
DTSTART;VALUE=DATE:20200619
DTEND;VALUE=DATE:20200620
DTSTAMP:20260421T221953
CREATED:20190903T123850Z
LAST-MODIFIED:20190903T123850Z
UID:12754-1592524800-1592611199@lilienthal-gymnasium.de
SUMMARY:letzter Schultag
DESCRIPTION:
URL:https://lilienthal-gymnasium.de/veranstaltung/letzter-schultag-3/
END:VEVENT
BEGIN:VEVENT
DTSTART;VALUE=DATE:20200615
DTEND;VALUE=DATE:20200618
DTSTAMP:20260421T221953
CREATED:20190903T123752Z
LAST-MODIFIED:20190903T123752Z
UID:12752-1592179200-1592438399@lilienthal-gymnasium.de
SUMMARY:Projekttage Kl. 8 und 10
DESCRIPTION:
URL:https://lilienthal-gymnasium.de/veranstaltung/projekttage-kl-8-und-10-2/
END:VEVENT
BEGIN:VEVENT
DTSTART;VALUE=DATE:20200613
DTEND;VALUE=DATE:20200614
DTSTAMP:20260421T221953
CREATED:20190903T123700Z
LAST-MODIFIED:20190903T123700Z
UID:12749-1592006400-1592092799@lilienthal-gymnasium.de
SUMMARY:Abiturball
DESCRIPTION:
URL:https://lilienthal-gymnasium.de/veranstaltung/abiturball-3/
END:VEVENT
BEGIN:VEVENT
DTSTART;VALUE=DATE:20200613
DTEND;VALUE=DATE:20200614
DTSTAMP:20260421T221953
CREATED:20190903T123619Z
LAST-MODIFIED:20190903T123619Z
UID:12747-1592006400-1592092799@lilienthal-gymnasium.de
SUMMARY:feierliche Zeugnisübergabe an Abiturienten
DESCRIPTION:
URL:https://lilienthal-gymnasium.de/veranstaltung/feierliche-zeugnisuebergabe-an-abiturienten-2/
END:VEVENT
BEGIN:VEVENT
DTSTART;VALUE=DATE:20200612
DTEND;VALUE=DATE:20200613
DTSTAMP:20260421T221953
CREATED:20190903T123503Z
LAST-MODIFIED:20190903T123503Z
UID:12745-1591920000-1592006399@lilienthal-gymnasium.de
SUMMARY:Generalprobe für Abiturzeugnisübergabe
DESCRIPTION:
URL:https://lilienthal-gymnasium.de/veranstaltung/generalprobe-fuer-abiturzeugnisuebergabe/
CATEGORIES:Chortermin
END:VEVENT
END:VCALENDAR